BEGIN:VCALENDAR
VERSION:2.0
PRODID:-//Sabre//Sabre VObject 4.5.8//EN
CALSCALE:GREGORIAN
BEGIN:VEVENT
UID:sabre-vobject-25cd3285-39e4-4324-aacd-7b41770a2ab5
DTSTAMP:20260421T090701Z
SUMMARY:Von Hexen\, Heilern & Halunken
DESCRIPTION:https://neuburg.com/veranstaltungen/von-hexen-heilern-halunken_
 id35913
DTSTART;TZID=Europe/Berlin:20260612T190000
DTEND;TZID=Europe/Berlin:20260612T203000
LOCATION:Tourist-Information\, Ottheinrichplatz A 118\, 86633 Neuburg
END:VEVENT
END:VCALENDAR
