BEGIN:VCALENDAR
VERSION:2.0
PRODID:-//Sabre//Sabre VObject 4.5.8//EN
CALSCALE:GREGORIAN
BEGIN:VEVENT
UID:sabre-vobject-f676ed2f-fe0b-4341-ac42-a76a85efa73a
DTSTAMP:20260423T150638Z
SUMMARY:Sommer Klassik Open Air 2024
DESCRIPTION:https://neuburg.com/veranstaltungen/sommer-klassik-open-air-202
 4_id34298
DTSTART;TZID=Europe/Berlin:20240907T200000
DTEND;TZID=Europe/Berlin:20240907T230000
LOCATION:Schloss Sandizell\, 86529 Schrobenhausen\, Schloßstraße 25\, 865
 29 Schrobenhausen
END:VEVENT
END:VCALENDAR
