BEGIN:VCALENDAR
VERSION:2.0
PRODID:-//Sabre//Sabre VObject 4.5.8//EN
CALSCALE:GREGORIAN
BEGIN:VEVENT
UID:sabre-vobject-0ad1528d-e8d6-41d7-b46a-c22f1700bcb4
DTSTAMP:20260421T105256Z
SUMMARY:öffentliche Führung -AUSGEBUCHT-
DESCRIPTION:https://neuburg.com/veranstaltungen/oeffentliche-fuehrung-ausge
 bucht_id33193
DTSTART;TZID=Europe/Berlin:20240831T140000
DTEND;TZID=Europe/Berlin:20240831T160000
LOCATION:86529 Schrobenhausen\, Schloss Sandizell\, Schloßstraße 25\, 865
 29 Schrobenhausen
END:VEVENT
END:VCALENDAR
