BEGIN:VCALENDAR
VERSION:2.0
PRODID:-//Sabre//Sabre VObject 4.5.8//EN
CALSCALE:GREGORIAN
BEGIN:VEVENT
UID:sabre-vobject-52e92890-7666-4b5b-9dc4-eeca2709dfdf
DTSTAMP:20260421T212652Z
SUMMARY:Geführte Wanderung
DESCRIPTION:https://neuburg.com/veranstaltungen/gefuehrte-wanderung_id33161
DTSTART;TZID=Europe/Berlin:20240723T000000
DURATION:PT30M
LOCATION:Neuburg an der Donau
END:VEVENT
END:VCALENDAR
