BEGIN:VCALENDAR
VERSION:2.0
PRODID:-//Sabre//Sabre VObject 4.5.8//EN
CALSCALE:GREGORIAN
BEGIN:VEVENT
UID:sabre-vobject-230e0200-a2fc-4334-91d6-1a5369adca07
DTSTAMP:20260422T025632Z
SUMMARY:Geführte Sternschanzenwanderung
DESCRIPTION:https://neuburg.com/veranstaltungen/gefuehrte-sternschanzenwand
 erung_id33160
DTSTART;TZID=Europe/Berlin:20240720T133000
DTEND;TZID=Europe/Berlin:20240723T000000
LOCATION:Neuburg an der Donau
END:VEVENT
END:VCALENDAR
