BEGIN:VCALENDAR
VERSION:2.0
PRODID:-//Sabre//Sabre VObject 4.5.8//EN
CALSCALE:GREGORIAN
BEGIN:VEVENT
UID:sabre-vobject-51f60744-e6da-46cd-bccb-9802fa8c478a
DTSTAMP:20260421T090827Z
SUMMARY:Radlaktionsmonat Region 10 - auf Grund der Hochwasserlage entfällt
  der Termin 
DESCRIPTION:https://neuburg.com/veranstaltungen/radlaktionsmonat-region-10-
 auf-grund-der-hochwasserlage-entfaellt-der-termin_id32954
DTSTART;TZID=Europe/Berlin:20240604T130000
DTEND;TZID=Europe/Berlin:20240604T170000
LOCATION:Neuburg an der Donau\, Treffpunkt Staustufe Bittenbrunn\, Kraftwer
 kstraße (Start und Ziel)
END:VEVENT
END:VCALENDAR
