BEGIN:VCALENDAR
VERSION:2.0
PRODID:-//Sabre//Sabre VObject 4.5.8//EN
CALSCALE:GREGORIAN
BEGIN:VEVENT
UID:sabre-vobject-f7cfe726-f265-470a-b66d-fedc9d680137
DTSTAMP:20260421T124540Z
SUMMARY:Internationaler Donautag 2024
DESCRIPTION:https://neuburg.com/veranstaltungen/internationaler-donautag-20
 24_id32933
DTSTART;TZID=Europe/Berlin:20240629T140000
DTEND;TZID=Europe/Berlin:20240629T183000
LOCATION:Neuburg an der Donau
END:VEVENT
END:VCALENDAR
