BEGIN:VCALENDAR
VERSION:2.0
PRODID:-//Sabre//Sabre VObject 4.5.8//EN
CALSCALE:GREGORIAN
BEGIN:VEVENT
UID:sabre-vobject-41eac98b-85a7-44f0-89be-01c140079503
DTSTAMP:20260422T080440Z
SUMMARY:Mit Kneipp fit in den Frühling
DESCRIPTION:https://neuburg.com/veranstaltungen/mit-kneipp-fit-in-den-frueh
 ling_id32608
DTSTART;TZID=Europe/Berlin:20240411T180000
DTEND;TZID=Europe/Berlin:20240411T190000
LOCATION:Sportgaststätte Bergheim\, Fährenweg 55\, 86673 Bergheim
END:VEVENT
END:VCALENDAR
