BEGIN:VCALENDAR
VERSION:2.0
PRODID:-//Sabre//Sabre VObject 4.5.8//EN
CALSCALE:GREGORIAN
BEGIN:VEVENT
UID:sabre-vobject-354778e8-f514-4f75-827c-484e26e93ae1
DTSTAMP:20260424T000945Z
SUMMARY:Öffentliche Führung
DESCRIPTION:https://neuburg.com/veranstaltungen/oeffentliche-fuehrung_id322
 41
DTSTART;TZID=Europe/Berlin:20240915T174500
DTEND;TZID=Europe/Berlin:20240915T201500
LOCATION:Hinterkaifeck\, \, 86579  Waidhofen
END:VEVENT
END:VCALENDAR
