BEGIN:VCALENDAR
VERSION:2.0
PRODID:-//Sabre//Sabre VObject 4.5.8//EN
CALSCALE:GREGORIAN
BEGIN:VEVENT
UID:sabre-vobject-d8ecc134-9eb6-4a9b-b544-829b0d11e745
DTSTAMP:20260421T230715Z
SUMMARY:Öffentliche Führung
DESCRIPTION:https://neuburg.com/veranstaltungen/oeffentliche-fuehrung_id322
 38
DTSTART;TZID=Europe/Berlin:20240721T184500
DTEND;TZID=Europe/Berlin:20240721T211500
LOCATION:Hinterkaifeck\, \, 86579  Waidhofen
END:VEVENT
END:VCALENDAR
