BEGIN:VCALENDAR
VERSION:2.0
PRODID:-//Sabre//Sabre VObject 4.5.8//EN
CALSCALE:GREGORIAN
BEGIN:VEVENT
UID:sabre-vobject-c93ccec0-06e8-4c0f-bdeb-956f6687d9ed
DTSTAMP:20260422T005948Z
SUMMARY:Spargelzeit in der Erlebnisregion Neuburg-Schrobenhausen
DESCRIPTION:https://neuburg.com/veranstaltungen/spargelzeit-in-der-erlebnis
 region-neuburg-schrobenhausen_id32237
DTSTART;TZID=Europe/Berlin:20240418T000000
DTEND;TZID=Europe/Berlin:20240624T000000
END:VEVENT
END:VCALENDAR
