BEGIN:VCALENDAR
VERSION:2.0
PRODID:-//Sabre//Sabre VObject 4.5.8//EN
CALSCALE:GREGORIAN
BEGIN:VEVENT
UID:sabre-vobject-157ead83-bdac-4785-8cd2-e12523cf5fb3
DTSTAMP:20260421T090830Z
SUMMARY:Kunst- Kultur Ostermarkt
DESCRIPTION:https://neuburg.com/veranstaltungen/kunst-kultur-ostermarkt_id3
 1656
DTSTART;TZID=Europe/Berlin:20240330T100000
DTEND;TZID=Europe/Berlin:20240401T180000
LOCATION:86663 Neuburg\, Schloss Grünau\, Grünau 1\, 86633 Neuburg an der
  Donau
END:VEVENT
END:VCALENDAR
