BEGIN:VCALENDAR
VERSION:2.0
PRODID:-//Sabre//Sabre VObject 4.5.8//EN
CALSCALE:GREGORIAN
BEGIN:VEVENT
UID:sabre-vobject-4f5a597e-02a6-4bdc-bebb-d9123e2cccec
DTSTAMP:20260421T142814Z
SUMMARY:Frühlingsmarkt auf Schloss Sandizell
DESCRIPTION:https://neuburg.com/veranstaltungen/fruehlingsmarkt-auf-schloss
 -sandizell_id31573
DTSTART;TZID=Europe/Berlin:20240426T100000
DTEND;TZID=Europe/Berlin:20240428T180000
LOCATION:86529 Schrobenhausen\, Schloss Sandizell\, Schloßstraße 4\, 8652
 9 Schrobenhausen
END:VEVENT
END:VCALENDAR
