BEGIN:VCALENDAR
VERSION:2.0
PRODID:-//Sabre//Sabre VObject 4.5.8//EN
CALSCALE:GREGORIAN
BEGIN:VEVENT
UID:sabre-vobject-cf2b3bfd-643d-42cc-aace-b42bf783e47c
DTSTAMP:20260421T090658Z
SUMMARY:Hofgartenfest
DESCRIPTION:https://neuburg.com/veranstaltungen/hofgartenfest_id31474
DTSTART;TZID=Europe/Berlin:20260612T180000
DTEND;TZID=Europe/Berlin:20260613T010000
LOCATION:Hofgarten
END:VEVENT
END:VCALENDAR
