BEGIN:VCALENDAR
VERSION:2.0
PRODID:-//Sabre//Sabre VObject 4.5.8//EN
CALSCALE:GREGORIAN
BEGIN:VEVENT
UID:sabre-vobject-25b7753c-68de-4e89-aecd-190c9b8bc5ed
DTSTAMP:20260421T212203Z
SUMMARY:Kneipenfestival Stadt Schall
DESCRIPTION:https://neuburg.com/veranstaltungen/kneipenfestival-stadt-schal
 l_id29538
DTSTART;TZID=Europe/Berlin:20240420T000000
DURATION:PT30M
LOCATION:Schrobenhausen \, gesamte Innenstadt
END:VEVENT
END:VCALENDAR
