BEGIN:VCALENDAR
VERSION:2.0
PRODID:-//Sabre//Sabre VObject 4.5.8//EN
CALSCALE:GREGORIAN
BEGIN:VEVENT
UID:sabre-vobject-eb2eb311-220b-40d3-a2d7-8cea534bda7c
DTSTAMP:20260423T130024Z
SUMMARY:Wochenmarkt Schrobenhausen
DESCRIPTION:https://neuburg.com/veranstaltungen/wochenmarkt-schrobenhausen_
 id29485
DTSTART;TZID=Europe/Berlin:20240907T080000
DTEND;TZID=Europe/Berlin:20240907T130000
LOCATION:Lenbachplatz\, Lenbachplatz\, 86529 Schrobenhausen
END:VEVENT
END:VCALENDAR
