BEGIN:VCALENDAR
VERSION:2.0
PRODID:-//Sabre//Sabre VObject 4.5.8//EN
CALSCALE:GREGORIAN
BEGIN:VEVENT
UID:sabre-vobject-a5d534e5-f47d-46c9-a81c-6452e2f60e61
DTSTAMP:20260421T233253Z
SUMMARY:Wochenmarkt Schrobenhausen
DESCRIPTION:https://neuburg.com/veranstaltungen/wochenmarkt-schrobenhausen_
 id29470
DTSTART;TZID=Europe/Berlin:20240718T070000
DTEND;TZID=Europe/Berlin:20240718T130000
LOCATION:Lenbachplatz\, Lenbachplatz\, 86529 Schrobenhausen
END:VEVENT
END:VCALENDAR
