BEGIN:VCALENDAR
VERSION:2.0
PRODID:-//Sabre//Sabre VObject 4.5.8//EN
CALSCALE:GREGORIAN
BEGIN:VEVENT
UID:sabre-vobject-8768c138-b9e8-4906-8d51-476e4cfc9541
DTSTAMP:20260421T161350Z
SUMMARY:Wochenmarkt Schrobenhausen
DESCRIPTION:https://neuburg.com/veranstaltungen/wochenmarkt-schrobenhausen_
 id29466
DTSTART;TZID=Europe/Berlin:20240704T070000
DTEND;TZID=Europe/Berlin:20240704T130000
LOCATION:Lenbachplatz\, Lenbachplatz\, 86529 Schrobenhausen
END:VEVENT
END:VCALENDAR
