BEGIN:VCALENDAR
VERSION:2.0
PRODID:-//Sabre//Sabre VObject 4.5.8//EN
CALSCALE:GREGORIAN
BEGIN:VEVENT
UID:sabre-vobject-c2be3297-75d3-49d7-825c-53ae1665b65c
DTSTAMP:20260422T062405Z
SUMMARY:Wochenmarkt Schrobenhausen
DESCRIPTION:https://neuburg.com/veranstaltungen/wochenmarkt-schrobenhausen_
 id29445
DTSTART;TZID=Europe/Berlin:20240413T080000
DTEND;TZID=Europe/Berlin:20240413T130000
LOCATION:Lenbachplatz\, Lenbachplatz\, 86529 Schrobenhausen
END:VEVENT
END:VCALENDAR
