BEGIN:VCALENDAR
VERSION:2.0
PRODID:-//Sabre//Sabre VObject 4.5.8//EN
CALSCALE:GREGORIAN
BEGIN:VEVENT
UID:sabre-vobject-3505b6c4-8be1-4371-801c-4537040bffb2
DTSTAMP:20260423T111459Z
SUMMARY:Wochenmarkt Schrobenhausen
DESCRIPTION:https://neuburg.com/veranstaltungen/wochenmarkt-schrobenhausen_
 id29442
DTSTART;TZID=Europe/Berlin:20240404T070000
DTEND;TZID=Europe/Berlin:20240404T130000
LOCATION:Lenbachplatz\, Lenbachplatz\, 86529 Schrobenhausen
END:VEVENT
END:VCALENDAR
