BEGIN:VCALENDAR
VERSION:2.0
PRODID:-//Sabre//Sabre VObject 4.5.8//EN
CALSCALE:GREGORIAN
BEGIN:VEVENT
UID:sabre-vobject-6930778b-e62c-40e6-93bb-2d7cb58aec46
DTSTAMP:20260421T090618Z
SUMMARY:Weinanbau in Neuburg an der Donau
DESCRIPTION:https://neuburg.com/veranstaltungen/weinanbau-in-neuburg-an-der
 -donau_id28705
DTSTART;TZID=Europe/Berlin:20240501T000000
DTEND;TZID=Europe/Berlin:20240930T000000
LOCATION:86633 Neuburg an der Donau\, Am Weinberg im Eulatal
END:VEVENT
END:VCALENDAR
