BEGIN:VCALENDAR
VERSION:2.0
PRODID:-//Sabre//Sabre VObject 4.5.8//EN
CALSCALE:GREGORIAN
BEGIN:VEVENT
UID:sabre-vobject-8dee00b7-0538-4f43-8b05-d04f8f4338fc
DTSTAMP:20260421T141057Z
SUMMARY:Öffentliche Führung
DESCRIPTION:https://neuburg.com/veranstaltungen/oeffentliche-fuehrung_id286
 73
DTSTART;TZID=Europe/Berlin:20240728T140000
DTEND;TZID=Europe/Berlin:20240728T160000
LOCATION:Rennertshofen-Mauern\, Treffpunkt Informationstafeln Parkplatz Mau
 erner Höhlen\, Quellenweg 2\, 86643 Rennertshofen
END:VEVENT
END:VCALENDAR
