BEGIN:VCALENDAR
VERSION:2.0
PRODID:-//Sabre//Sabre VObject 4.5.8//EN
CALSCALE:GREGORIAN
BEGIN:VEVENT
UID:sabre-vobject-ebc9a108-0596-455b-a128-5afdacc977be
DTSTAMP:20260421T160528Z
SUMMARY:Öffentliche Führung
DESCRIPTION:https://neuburg.com/veranstaltungen/oeffentliche-fuehrung_id286
 72
DTSTART;TZID=Europe/Berlin:20240727T140000
DTEND;TZID=Europe/Berlin:20240727T160000
LOCATION:Neuburg an der Donau\, Treffpunkt Schlösslwiese\, Zur Ringmeierbu
 cht 4\, 86633 Neuburg an der Donau
END:VEVENT
END:VCALENDAR
