BEGIN:VCALENDAR
VERSION:2.0
PRODID:-//Sabre//Sabre VObject 4.5.8//EN
CALSCALE:GREGORIAN
BEGIN:VEVENT
UID:sabre-vobject-95f28307-0743-4997-bacb-79ece7348db5
DTSTAMP:20260421T142658Z
SUMMARY:Öffentliche Führung
DESCRIPTION:https://neuburg.com/veranstaltungen/oeffentliche-fuehrung_id286
 71
DTSTART;TZID=Europe/Berlin:20240630T140000
DTEND;TZID=Europe/Berlin:20240630T160000
LOCATION:Rennertshofen-Mauern\, Treffpunkt Informationstafeln Parkplatz Mau
 erner Höhlen\, Quellenweg 2\, 86643 Rennertshofen
END:VEVENT
END:VCALENDAR
