BEGIN:VCALENDAR
VERSION:2.0
PRODID:-//Sabre//Sabre VObject 4.5.8//EN
CALSCALE:GREGORIAN
BEGIN:VEVENT
UID:sabre-vobject-8f2f823d-057a-47c5-ac9a-955e3a64f169
DTSTAMP:20260421T090646Z
SUMMARY:Tourist-Information wegen Umbauarbeiten geschlossen
DESCRIPTION:https://neuburg.com/veranstaltungen/tourist-information-wegen-u
 mbauarbeiten-geschlossen_id28152
DTSTART;TZID=Europe/Berlin:20231106T000000
DTEND;TZID=Europe/Berlin:20231110T000000
END:VEVENT
END:VCALENDAR
