BEGIN:VCALENDAR
VERSION:2.0
PRODID:-//Sabre//Sabre VObject 4.5.8//EN
CALSCALE:GREGORIAN
BEGIN:VEVENT
UID:sabre-vobject-967807e5-e7be-4f78-8ca6-110b8942f810
DTSTAMP:20260422T004854Z
SUMMARY:Öffentliche Führung
DESCRIPTION:https://neuburg.com/veranstaltungen/oeffentliche-fuehrung_id274
 28
DTSTART;TZID=Europe/Berlin:20240720T140000
DTEND;TZID=Europe/Berlin:20240720T153000
LOCATION:86529 Schrobenhausen\, Schloss Sandizell\, Schloßstraße 25\, 865
 29 Schrobenhausen
END:VEVENT
END:VCALENDAR
