BEGIN:VCALENDAR
VERSION:2.0
PRODID:-//Sabre//Sabre VObject 4.5.8//EN
CALSCALE:GREGORIAN
BEGIN:VEVENT
UID:sabre-vobject-8cc20ac2-0190-4170-ad56-b229970115ae
DTSTAMP:20260421T180136Z
SUMMARY:Öffentliche Führung
DESCRIPTION:https://neuburg.com/veranstaltungen/oeffentliche-fuehrung_id274
 25
DTSTART;TZID=Europe/Berlin:20240421T140000
DTEND;TZID=Europe/Berlin:20240421T160000
LOCATION:Stepperg\, Treffpunkt Kirche St. Michael
END:VEVENT
END:VCALENDAR
