BEGIN:VCALENDAR
VERSION:2.0
PRODID:-//Sabre//Sabre VObject 4.5.8//EN
CALSCALE:GREGORIAN
BEGIN:VEVENT
UID:sabre-vobject-12ca0b18-c8c4-4cb7-8c06-691fb5b2be7f
DTSTAMP:20260422T042551Z
SUMMARY:Öffentliche Führung
DESCRIPTION:https://neuburg.com/veranstaltungen/oeffentliche-fuehrung_id274
 24
DTSTART;TZID=Europe/Berlin:20240413T140000
DTEND;TZID=Europe/Berlin:20240413T153000
LOCATION:86529 Schrobenhausen\, Schloss Sandizell\, Schloßstraße 4\, 8652
 9 Schrobenhausen
END:VEVENT
END:VCALENDAR
