BEGIN:VCALENDAR
VERSION:2.0
PRODID:-//Sabre//Sabre VObject 4.5.8//EN
CALSCALE:GREGORIAN
BEGIN:VEVENT
UID:sabre-vobject-dcb9e04c-85e6-4799-8cff-b9d94fcae27f
DTSTAMP:20260422T023819Z
SUMMARY:Öffentliche Führung
DESCRIPTION:https://neuburg.com/veranstaltungen/oeffentliche-fuehrung_id274
 05
DTSTART;TZID=Europe/Berlin:20240414T134500
DTEND;TZID=Europe/Berlin:20240414T154500
LOCATION:Schrobenhausen\, Treffpunkt Busbahnhof
END:VEVENT
END:VCALENDAR
