BEGIN:VCALENDAR
VERSION:2.0
PRODID:-//Sabre//Sabre VObject 4.5.8//EN
CALSCALE:GREGORIAN
BEGIN:VEVENT
UID:sabre-vobject-48b9539a-bc96-4e3d-89d8-e42e267a9b34
DTSTAMP:20260422T112851Z
SUMMARY:Öffentliche Führung
DESCRIPTION:https://neuburg.com/veranstaltungen/oeffentliche-fuehrung_id274
 04
DTSTART;TZID=Europe/Berlin:20240407T134500
DTEND;TZID=Europe/Berlin:20240407T161500
LOCATION:Hinterkaifeck\, \, 86579  Waidhofen
END:VEVENT
END:VCALENDAR
