BEGIN:VCALENDAR
VERSION:2.0
PRODID:-//Sabre//Sabre VObject 4.5.8//EN
CALSCALE:GREGORIAN
BEGIN:VEVENT
UID:sabre-vobject-3b6957a7-ca8d-4344-b028-df7b2234d1f2
DTSTAMP:20260421T124537Z
SUMMARY:Profigolfturnier
DESCRIPTION:https://neuburg.com/veranstaltungen/profigolfturnier_id26893
DTSTART;TZID=Europe/Berlin:20240905T000000
DTEND;TZID=Europe/Berlin:20240908T000000
LOCATION:86633 Neuburg an der Donau
END:VEVENT
END:VCALENDAR
