BEGIN:VCALENDAR
VERSION:2.0
PRODID:-//Sabre//Sabre VObject 4.5.8//EN
CALSCALE:GREGORIAN
BEGIN:VEVENT
UID:sabre-vobject-d6fe7790-6dd8-4088-9f3a-c74546590d00
DTSTAMP:20260423T222540Z
SUMMARY:Stadtlauf in Schrobenhausen
DESCRIPTION:https://neuburg.com/veranstaltungen/stadtlauf-in-schrobenhausen
 _id26747
DTSTART;TZID=Europe/Berlin:20240914T120000
DTEND;TZID=Europe/Berlin:20240914T200000
LOCATION:Schrobenhausen\, Gesamte Innenstadt
END:VEVENT
END:VCALENDAR
