BEGIN:VCALENDAR
VERSION:2.0
PRODID:-//Sabre//Sabre VObject 4.5.8//EN
CALSCALE:GREGORIAN
BEGIN:VEVENT
UID:sabre-vobject-1f94ea33-3290-4cbc-9f48-35ed888d5b98
DTSTAMP:20260421T105254Z
SUMMARY:Schrobenhausener Spargelfest
DESCRIPTION:https://neuburg.com/veranstaltungen/schrobenhausener-spargelfes
 t_id26742
DTSTART;TZID=Europe/Berlin:20240427T103000
DTEND;TZID=Europe/Berlin:20240427T170000
LOCATION:Lenbachplatz\, Lenbachplatz\, 86529 Schrobenhausen
END:VEVENT
END:VCALENDAR
