BEGIN:VCALENDAR
VERSION:2.0
PRODID:-//Sabre//Sabre VObject 4.5.8//EN
CALSCALE:GREGORIAN
BEGIN:VEVENT
UID:sabre-vobject-3345ec46-2d1c-45d3-9e8b-95828365c3b0
DTSTAMP:20260421T124427Z
SUMMARY:Mut zum Hut
DESCRIPTION:https://neuburg.com/veranstaltungen/mut-zum-hut_id26466
DTSTART;TZID=Europe/Berlin:20260913T100000
DTEND;TZID=Europe/Berlin:20260913T190000
LOCATION:Residenzschloss Neuburg\, Residenzstraße 2\, 86633 Neuburg an der
  Donau
END:VEVENT
END:VCALENDAR
