BEGIN:VCALENDAR
VERSION:2.0
PRODID:-//Sabre//Sabre VObject 4.5.8//EN
CALSCALE:GREGORIAN
BEGIN:VEVENT
UID:sabre-vobject-1fdec2f0-82e7-4b9c-8607-022781d51dca
DTSTAMP:20260421T124422Z
SUMMARY:Mut zum Hut
DESCRIPTION:https://neuburg.com/veranstaltungen/mut-zum-hut_id26465
DTSTART;TZID=Europe/Berlin:20260912T100000
DTEND;TZID=Europe/Berlin:20260912T200000
LOCATION:Residenzschloss Neuburg\, Residenzstraße 2\, 86633 Neuburg an der
  Donau
END:VEVENT
END:VCALENDAR
