BEGIN:VCALENDAR
VERSION:2.0
PRODID:-//Sabre//Sabre VObject 4.5.8//EN
CALSCALE:GREGORIAN
BEGIN:VEVENT
UID:sabre-vobject-a193e032-dbee-4280-a45e-dc15532d7d58
DTSTAMP:20260421T124538Z
SUMMARY:Neuburger Töpfermarkt
DESCRIPTION:https://neuburg.com/veranstaltungen/neuburger-toepfermarkt_id26
 463
DTSTART;TZID=Europe/Berlin:20260920T090000
DTEND;TZID=Europe/Berlin:20260920T180000
LOCATION:Fürstlicher Marstall\, Ottheinrichplatz A 117\, 86633 Neuburg an 
 der Donau
END:VEVENT
END:VCALENDAR
