BEGIN:VCALENDAR
VERSION:2.0
PRODID:-//Sabre//Sabre VObject 4.5.8//EN
CALSCALE:GREGORIAN
BEGIN:VEVENT
UID:sabre-vobject-62a2ad6a-6137-4226-aea6-c3fdcd4b1286
DTSTAMP:20260421T124535Z
SUMMARY:Neuburger Töpfermarkt
DESCRIPTION:https://neuburg.com/veranstaltungen/neuburger-toepfermarkt_id26
 462
DTSTART;TZID=Europe/Berlin:20260919T090000
DTEND;TZID=Europe/Berlin:20260919T180000
LOCATION:Fürstlicher Marstall\, Ottheinrichplatz A 117\, 86633 Neuburg an 
 der Donau
END:VEVENT
END:VCALENDAR
