BEGIN:VCALENDAR
VERSION:2.0
PRODID:-//Sabre//Sabre VObject 4.5.8//EN
CALSCALE:GREGORIAN
BEGIN:VEVENT
UID:sabre-vobject-7ab57a56-cfe9-4025-99b4-dfe7c74bd7cc
DTSTAMP:20260421T062626Z
SUMMARY:Kunst in Miniatur
DESCRIPTION:https://neuburg.com/veranstaltungen/kunst-in-miniatur_id25797
DTSTART;TZID=Europe/Berlin:20230319T100000
DTEND;TZID=Europe/Berlin:20230319T160000
LOCATION:Residenzschloss Neuburg\, Residenzstraße 2\, 86633 Neuburg an der
  Donau
END:VEVENT
END:VCALENDAR
