BEGIN:VCALENDAR
VERSION:2.0
PRODID:-//Sabre//Sabre VObject 4.5.8//EN
CALSCALE:GREGORIAN
BEGIN:VEVENT
UID:sabre-vobject-6affedf1-19d0-48c8-82e3-26792664a98a
DTSTAMP:20260421T062456Z
SUMMARY:Kunst in Miniatur
DESCRIPTION:https://neuburg.com/veranstaltungen/kunst-in-miniatur_id25792
DTSTART;TZID=Europe/Berlin:20230318T100000
DTEND;TZID=Europe/Berlin:20230318T160000
LOCATION:Residenzschloss Neuburg\, Residenzstraße 2\, 86633 Neuburg an der
  Donau
END:VEVENT
END:VCALENDAR
