BEGIN:VCALENDAR
VERSION:2.0
PRODID:-//Sabre//Sabre VObject 4.5.8//EN
CALSCALE:GREGORIAN
BEGIN:VEVENT
UID:sabre-vobject-b2528803-9717-4b78-b814-749522d0dccd
DTSTAMP:20260421T062748Z
SUMMARY:Kunst in Miniatur
DESCRIPTION:https://neuburg.com/veranstaltungen/kunst-in-miniatur_id25791
DTSTART;TZID=Europe/Berlin:20230317T100000
DTEND;TZID=Europe/Berlin:20230317T160000
LOCATION:Residenzschloss Neuburg\, Residenzstraße 2\, 86633 Neuburg an der
  Donau
END:VEVENT
END:VCALENDAR
