BEGIN:VCALENDAR
VERSION:2.0
PRODID:-//Sabre//Sabre VObject 4.5.8//EN
CALSCALE:GREGORIAN
BEGIN:VEVENT
UID:sabre-vobject-ed747cb1-978e-4d20-b9e6-f2d37c39e3af
DTSTAMP:20260421T062641Z
SUMMARY:"Best Book Design" 2022/2023
DESCRIPTION:https://neuburg.com/veranstaltungen/best-book-design-2022-2023_
 id25775
DTSTART;TZID=Europe/Berlin:20230318T093000
DTEND;TZID=Europe/Berlin:20230318T120000
LOCATION:Stadtbücherei im Bücherturm\, Sèter Platz 1\, 86633 Neuburg an 
 der Donau
END:VEVENT
END:VCALENDAR
