BEGIN:VCALENDAR
VERSION:2.0
PRODID:-//Sabre//Sabre VObject 4.5.8//EN
CALSCALE:GREGORIAN
BEGIN:VEVENT
UID:sabre-vobject-8cc68c65-01e1-44c1-b80b-6544c561482f
DTSTAMP:20260421T062640Z
SUMMARY:"Best Book Design" 2022/2023
DESCRIPTION:https://neuburg.com/veranstaltungen/best-book-design-2022-2023_
 id25773
DTSTART;TZID=Europe/Berlin:20230317T093000
DTEND;TZID=Europe/Berlin:20230317T180000
LOCATION:Stadtbücherei im Bücherturm\, Sèter Platz 1\, 86633 Neuburg an 
 der Donau
END:VEVENT
END:VCALENDAR
