BEGIN:VCALENDAR
VERSION:2.0
PRODID:-//Sabre//Sabre VObject 4.5.8//EN
CALSCALE:GREGORIAN
BEGIN:VEVENT
UID:sabre-vobject-a034c5f5-cf9a-4443-ac80-76b3b56c68dd
DTSTAMP:20260421T062629Z
SUMMARY:Die Römer in Neuburg
DESCRIPTION:https://neuburg.com/veranstaltungen/die-roemer-in-neuburg_id256
 08
DTSTART;TZID=Europe/Berlin:20230319T100000
DTEND;TZID=Europe/Berlin:20230319T180000
LOCATION:Stadtmuseum Neuburg an der Donau\, Amalienstraße  19\, 86633 Neub
 urg an der Donau
END:VEVENT
END:VCALENDAR
