BEGIN:VCALENDAR
VERSION:2.0
PRODID:-//Sabre//Sabre VObject 4.5.8//EN
CALSCALE:GREGORIAN
BEGIN:VEVENT
UID:sabre-vobject-c22ddce5-ead9-4e7c-817f-83d72d9b44bb
DTSTAMP:20260421T062624Z
SUMMARY:Frühjahrsausstellung "Zweifarbig"
DESCRIPTION:https://neuburg.com/veranstaltungen/fruehjahrsausstellung-zweif
 arbig_id25602
DTSTART;TZID=Europe/Berlin:20230317T000000
DTEND;TZID=Europe/Berlin:20230410T000000
LOCATION:Städtische Galerie im Fürstengang\, Amalienstraße\, 86633 Neubu
 rg an der Donau
END:VEVENT
END:VCALENDAR
