BEGIN:VCALENDAR
VERSION:2.0
PRODID:-//Sabre//Sabre VObject 4.5.8//EN
CALSCALE:GREGORIAN
BEGIN:VEVENT
UID:sabre-vobject-db5b0c78-9f70-4ab8-88db-b4f9d765237c
DTSTAMP:20260421T062557Z
SUMMARY:Viktor Scheck
DESCRIPTION:https://neuburg.com/veranstaltungen/viktor-scheck_id25600
DTSTART;TZID=Europe/Berlin:20230312T000000
DTEND;TZID=Europe/Berlin:20230410T000000
LOCATION:Städtische Galerie im Rathausfletz\, Karlsplatz A 12\, 86633 Neub
 urg an der Donau
END:VEVENT
END:VCALENDAR
