BEGIN:VCALENDAR
VERSION:2.0
PRODID:-//Sabre//Sabre VObject 4.5.8//EN
CALSCALE:GREGORIAN
BEGIN:VEVENT
UID:sabre-vobject-a51fc8ed-f627-42f2-943d-d8f36faf64a6
DTSTAMP:20260421T062458Z
SUMMARY:Kunstscheune Kultnacht
DESCRIPTION:https://neuburg.com/veranstaltungen/kunstscheune-kultnacht_id25
 580
DTSTART;TZID=Europe/Berlin:20230318T200000
DURATION:PT30M
LOCATION:Kunstscheune\, Beim Jägerhaus 5\, 86633 Neuburg an der Donau
END:VEVENT
END:VCALENDAR
