BEGIN:VCALENDAR
VERSION:2.0
PRODID:-//Sabre//Sabre VObject 4.5.8//EN
CALSCALE:GREGORIAN
BEGIN:VEVENT
UID:sabre-vobject-057c3362-b604-43a4-a200-667732cc7470
DTSTAMP:20260421T062457Z
SUMMARY:Die Lustige Witwe
DESCRIPTION:https://neuburg.com/veranstaltungen/die-lustige-witwe_id25575
DTSTART;TZID=Europe/Berlin:20230319T170000
DURATION:PT30M
LOCATION:Stadttheater\, Residenzstraße A67\, 86633 Neuburg an der Donau
END:VEVENT
END:VCALENDAR
