BEGIN:VCALENDAR
VERSION:2.0
PRODID:-//Sabre//Sabre VObject 4.5.8//EN
CALSCALE:GREGORIAN
BEGIN:VEVENT
UID:sabre-vobject-f4ff6b58-135b-4d02-beda-4e70a9118429
DTSTAMP:20260421T062624Z
SUMMARY:Die Lustige Witwe
DESCRIPTION:https://neuburg.com/veranstaltungen/die-lustige-witwe_id25574
DTSTART;TZID=Europe/Berlin:20230318T190000
DURATION:PT30M
LOCATION:Stadttheater\, Residenzstraße A67\, 86633 Neuburg an der Donau
END:VEVENT
END:VCALENDAR
