BEGIN:VCALENDAR
VERSION:2.0
PRODID:-//Sabre//Sabre VObject 4.5.8//EN
CALSCALE:GREGORIAN
BEGIN:VEVENT
UID:sabre-vobject-b8673cfa-371d-4a68-942b-46413e6feb5c
DTSTAMP:20260421T062456Z
SUMMARY:Viktor Scheck
DESCRIPTION:https://neuburg.com/veranstaltungen/viktor-scheck_id25522
DTSTART;TZID=Europe/Berlin:20230319T110000
DTEND;TZID=Europe/Berlin:20230319T190000
LOCATION:Städtische Galerie im Rathausfletz\, Karlsplatz A 12\, 86633 Neub
 urg an der Donau
END:VEVENT
END:VCALENDAR
