BEGIN:VCALENDAR
VERSION:2.0
PRODID:-//Sabre//Sabre VObject 4.5.8//EN
CALSCALE:GREGORIAN
BEGIN:VEVENT
UID:sabre-vobject-463eac69-4f37-4c6e-80e4-ace7653fc362
DTSTAMP:20260421T062559Z
SUMMARY:Viktor Scheck
DESCRIPTION:https://neuburg.com/veranstaltungen/viktor-scheck_id25518
DTSTART;TZID=Europe/Berlin:20230318T110000
DTEND;TZID=Europe/Berlin:20230318T190000
LOCATION:Städtische Galerie im Rathausfletz\, Karlsplatz A 12\, 86633 Neub
 urg an der Donau
END:VEVENT
END:VCALENDAR
